BEGIN:VCALENDAR
VERSION:2.0
PRODID:-//Miller Business Center - ECPv6.15.16.1//NONSGML v1.0//EN
CALSCALE:GREGORIAN
METHOD:PUBLISH
X-WR-CALNAME:Miller Business Center
X-ORIGINAL-URL:https://www.millerbusinesscenter.org
X-WR-CALDESC:Events for Miller Business Center
REFRESH-INTERVAL;VALUE=DURATION:PT1H
X-Robots-Tag:noindex
X-PUBLISHED-TTL:PT1H
BEGIN:VTIMEZONE
TZID:America/New_York
BEGIN:DAYLIGHT
TZOFFSETFROM:-0500
TZOFFSETTO:-0400
TZNAME:EDT
DTSTART:20250309T070000
END:DAYLIGHT
BEGIN:STANDARD
TZOFFSETFROM:-0400
TZOFFSETTO:-0500
TZNAME:EST
DTSTART:20251102T060000
END:STANDARD
BEGIN:DAYLIGHT
TZOFFSETFROM:-0500
TZOFFSETTO:-0400
TZNAME:EDT
DTSTART:20260308T070000
END:DAYLIGHT
BEGIN:STANDARD
TZOFFSETFROM:-0400
TZOFFSETTO:-0500
TZNAME:EST
DTSTART:20261101T060000
END:STANDARD
BEGIN:DAYLIGHT
TZOFFSETFROM:-0500
TZOFFSETTO:-0400
TZNAME:EDT
DTSTART:20270314T070000
END:DAYLIGHT
BEGIN:STANDARD
TZOFFSETFROM:-0400
TZOFFSETTO:-0500
TZNAME:EST
DTSTART:20271107T060000
END:STANDARD
END:VTIMEZONE
BEGIN:VEVENT
DTSTART;TZID=America/New_York:20260528T190000
DTEND;TZID=America/New_York:20260528T200000
DTSTAMP:20260422T175006
CREATED:20260210T180844Z
LAST-MODIFIED:20260402T161132Z
UID:5323-1779994800-1779998400@www.millerbusinesscenter.org
SUMMARY:Empowered Women in Business: Professional Support Circle
DESCRIPTION:Click HERE to register.  Join a dynamic community of women professionals dedicated to building each other up\, sharing resources\, and navigating the challenges of business together. This group provides a welcoming space to connect\, exchange ideas\, and gain encouragement from peers who understand the unique experiences of women in the professional world. Led by Terry Morris 
URL:https://www.millerbusinesscenter.org/event/empowered-women-in-business-professional-support-circle-2/
LOCATION:Miller Business Center\, 101 Eastwood Blvd.\, Centereach\, NY\, 11720\, United States
END:VEVENT
BEGIN:VEVENT
DTSTART;TZID=America/New_York:20260610T090000
DTEND;TZID=America/New_York:20260610T100000
DTSTAMP:20260422T175006
CREATED:20260416T144454Z
LAST-MODIFIED:20260416T144454Z
UID:5548-1781082000-1781085600@www.millerbusinesscenter.org
SUMMARY:Legal Roadmap to Launching Your Business
DESCRIPTION:CLICK HERE TO REGISTER.\nStarting a business is exciting—but the legal decisions you make early on can determine your long-term success. This workshop is designed to help entrepreneurs navigate the essential legal steps required to launch a business the right way and avoid costly missteps down the road. Join Campolo\, Middleton & McCormick Senior Partner Christine Malafi to gain a clear understanding of the legal foundations every startup needs in place before opening its doors or raising capital. \nIn this session\, you’ll learn:\n-How to structure your business to protect your personal assets\n-Key differences between legal entities and how to choose the right one\n-What to consider before bringing on partners or investors\n-Essential agreements every new business should have\n-Legal basics of branding and protecting your business identity\n-How to build a strong advisory team to support growth \nWhether you’re still in the idea phase or preparing to formally launch\, this workshop will provide a clear legal framework to help you move forward with confidence and clarity.
URL:https://www.millerbusinesscenter.org/event/legal-roadmap-to-launching-your-business/
LOCATION:Miller Business Center\, 101 Eastwood Blvd.\, Centereach\, NY\, 11720\, United States
END:VEVENT
END:VCALENDAR