BEGIN:VCALENDAR
VERSION:2.0
PRODID:-//Miller Business Center - ECPv6.15.16.1//NONSGML v1.0//EN
CALSCALE:GREGORIAN
METHOD:PUBLISH
X-ORIGINAL-URL:https://www.millerbusinesscenter.org
X-WR-CALDESC:Events for Miller Business Center
REFRESH-INTERVAL;VALUE=DURATION:PT1H
X-Robots-Tag:noindex
X-PUBLISHED-TTL:PT1H
BEGIN:VTIMEZONE
TZID:America/New_York
BEGIN:DAYLIGHT
TZOFFSETFROM:-0500
TZOFFSETTO:-0400
TZNAME:EDT
DTSTART:20250309T070000
END:DAYLIGHT
BEGIN:STANDARD
TZOFFSETFROM:-0400
TZOFFSETTO:-0500
TZNAME:EST
DTSTART:20251102T060000
END:STANDARD
BEGIN:DAYLIGHT
TZOFFSETFROM:-0500
TZOFFSETTO:-0400
TZNAME:EDT
DTSTART:20260308T070000
END:DAYLIGHT
BEGIN:STANDARD
TZOFFSETFROM:-0400
TZOFFSETTO:-0500
TZNAME:EST
DTSTART:20261101T060000
END:STANDARD
BEGIN:DAYLIGHT
TZOFFSETFROM:-0500
TZOFFSETTO:-0400
TZNAME:EDT
DTSTART:20270314T070000
END:DAYLIGHT
BEGIN:STANDARD
TZOFFSETFROM:-0400
TZOFFSETTO:-0500
TZNAME:EST
DTSTART:20271107T060000
END:STANDARD
END:VTIMEZONE
BEGIN:VEVENT
DTSTART;TZID=America/New_York:20260521T090000
DTEND;TZID=America/New_York:20260521T100000
DTSTAMP:20260422T142625
CREATED:20260402T174448Z
LAST-MODIFIED:20260402T174448Z
UID:5536-1779354000-1779357600@www.millerbusinesscenter.org
SUMMARY:NeuroMarketing Strategies
DESCRIPTION:Click HERE to Register.\nWhy do consumers make the decisions they do and what parts of the brain are motivating them to do so? Find out by joining us to learn about marketing with neuroscience concepts. \nThis is a virtual program. \nPresented by Man-Li Lin\nEconomic Development Specialist U.S. Small Business Administration\, NY District Office
URL:https://www.millerbusinesscenter.org/event/neuromarketing-strategies/
LOCATION:Miller Business Center\, 101 Eastwood Blvd.\, Centereach\, NY\, 11720\, United States
END:VEVENT
END:VCALENDAR