BEGIN:VCALENDAR
VERSION:2.0
PRODID:-//Miller Business Center - ECPv6.15.16.1//NONSGML v1.0//EN
CALSCALE:GREGORIAN
METHOD:PUBLISH
X-ORIGINAL-URL:https://www.millerbusinesscenter.org
X-WR-CALDESC:Events for Miller Business Center
REFRESH-INTERVAL;VALUE=DURATION:PT1H
X-Robots-Tag:noindex
X-PUBLISHED-TTL:PT1H
BEGIN:VTIMEZONE
TZID:America/New_York
BEGIN:DAYLIGHT
TZOFFSETFROM:-0500
TZOFFSETTO:-0400
TZNAME:EDT
DTSTART:20250309T070000
END:DAYLIGHT
BEGIN:STANDARD
TZOFFSETFROM:-0400
TZOFFSETTO:-0500
TZNAME:EST
DTSTART:20251102T060000
END:STANDARD
BEGIN:DAYLIGHT
TZOFFSETFROM:-0500
TZOFFSETTO:-0400
TZNAME:EDT
DTSTART:20260308T070000
END:DAYLIGHT
BEGIN:STANDARD
TZOFFSETFROM:-0400
TZOFFSETTO:-0500
TZNAME:EST
DTSTART:20261101T060000
END:STANDARD
BEGIN:DAYLIGHT
TZOFFSETFROM:-0500
TZOFFSETTO:-0400
TZNAME:EDT
DTSTART:20270314T070000
END:DAYLIGHT
BEGIN:STANDARD
TZOFFSETFROM:-0400
TZOFFSETTO:-0500
TZNAME:EST
DTSTART:20271107T060000
END:STANDARD
END:VTIMEZONE
BEGIN:VEVENT
DTSTART;TZID=America/New_York:20260514T090000
DTEND;TZID=America/New_York:20260514T103000
DTSTAMP:20260422T142625
CREATED:20260407T151534Z
LAST-MODIFIED:20260407T152606Z
UID:5533-1778749200-1778754600@www.millerbusinesscenter.org
SUMMARY:Breaking Through: Identifying the Hidden Barriers to Your Success
DESCRIPTION:Click HERE to Register.  What you don’t see is hurting your bottom line. This fast-paced\, interactive presentation dives into the behavioral and organizational blind spots that limit individual and team results. Attendees will walk away with a roadmap to eliminate performance plateaus and sharpen their strategic edge. \nPresented by John Hajisava\, Hajisava.com
URL:https://www.millerbusinesscenter.org/event/breaking-through-identifying-the-hidden-barriers-to-your-success/
LOCATION:Miller Business Center\, 101 Eastwood Blvd.\, Centereach\, NY\, 11720\, United States
END:VEVENT
END:VCALENDAR