BEGIN:VCALENDAR
VERSION:2.0
PRODID:-//Miller Business Center - ECPv6.15.16.1//NONSGML v1.0//EN
CALSCALE:GREGORIAN
METHOD:PUBLISH
X-WR-CALNAME:Miller Business Center
X-ORIGINAL-URL:https://www.millerbusinesscenter.org
X-WR-CALDESC:Events for Miller Business Center
REFRESH-INTERVAL;VALUE=DURATION:PT1H
X-Robots-Tag:noindex
X-PUBLISHED-TTL:PT1H
BEGIN:VTIMEZONE
TZID:America/New_York
BEGIN:DAYLIGHT
TZOFFSETFROM:-0500
TZOFFSETTO:-0400
TZNAME:EDT
DTSTART:20250309T070000
END:DAYLIGHT
BEGIN:STANDARD
TZOFFSETFROM:-0400
TZOFFSETTO:-0500
TZNAME:EST
DTSTART:20251102T060000
END:STANDARD
BEGIN:DAYLIGHT
TZOFFSETFROM:-0500
TZOFFSETTO:-0400
TZNAME:EDT
DTSTART:20260308T070000
END:DAYLIGHT
BEGIN:STANDARD
TZOFFSETFROM:-0400
TZOFFSETTO:-0500
TZNAME:EST
DTSTART:20261101T060000
END:STANDARD
BEGIN:DAYLIGHT
TZOFFSETFROM:-0500
TZOFFSETTO:-0400
TZNAME:EDT
DTSTART:20270314T070000
END:DAYLIGHT
BEGIN:STANDARD
TZOFFSETFROM:-0400
TZOFFSETTO:-0500
TZNAME:EST
DTSTART:20271107T060000
END:STANDARD
END:VTIMEZONE
BEGIN:VEVENT
DTSTART;TZID=America/New_York:20260423T090000
DTEND;TZID=America/New_York:20260423T100000
DTSTAMP:20260423T021526
CREATED:20260227T165137Z
LAST-MODIFIED:20260401T130529Z
UID:5496-1776934800-1776938400@www.millerbusinesscenter.org
SUMMARY:What's Changed in Word-of-Mouth Marketing on Long Island and What You Need to Do Now
DESCRIPTION:CLICK HERE TO REGISTER. \nLong Island has always run on relationships. Referrals\, networking groups\, and personal trust are the backbone of how business gets done here. But relationships alone aren’t enough anymore. As digital natives move into leadership roles at work and take on purchasing decisions both professionally and personally\, the customer journey has fundamentally changed for B2B and B2C businesses alike. Today\, a referral doesn’t automatically turn into a phone call\, instead it turns into a Google search. Even the strongest recommendations are validated through your website\, LinkedIn presence\, online reviews\, and overall digital footprint. If your value and credibility aren’t instantly clear online\, the momentum from referrals slows down – or disappears altogether. This session will help you understand how modern word-of-mouth now feeds into a digital-first customer journey and how to make sure your reputation shows up clearly and convincingly when buyers go looking. \nPresented by Devra Prywes\, Wheelhouse Marketing \nDoors open at 8:30AM for networking.
URL:https://www.millerbusinesscenter.org/event/what-changed-in-word-of-mouth-marketing-on-long-island-and-what-you-need-to-do-now/
LOCATION:Miller Business Center\, 101 Eastwood Blvd.\, Centereach\, NY\, 11720\, United States
END:VEVENT
END:VCALENDAR