BEGIN:VCALENDAR
VERSION:2.0
PRODID:-//Miller Business Center - ECPv6.15.16.1//NONSGML v1.0//EN
CALSCALE:GREGORIAN
METHOD:PUBLISH
X-ORIGINAL-URL:https://www.millerbusinesscenter.org
X-WR-CALDESC:Events for Miller Business Center
REFRESH-INTERVAL;VALUE=DURATION:PT1H
X-Robots-Tag:noindex
X-PUBLISHED-TTL:PT1H
BEGIN:VTIMEZONE
TZID:America/New_York
BEGIN:DAYLIGHT
TZOFFSETFROM:-0500
TZOFFSETTO:-0400
TZNAME:EDT
DTSTART:20250309T070000
END:DAYLIGHT
BEGIN:STANDARD
TZOFFSETFROM:-0400
TZOFFSETTO:-0500
TZNAME:EST
DTSTART:20251102T060000
END:STANDARD
BEGIN:DAYLIGHT
TZOFFSETFROM:-0500
TZOFFSETTO:-0400
TZNAME:EDT
DTSTART:20260308T070000
END:DAYLIGHT
BEGIN:STANDARD
TZOFFSETFROM:-0400
TZOFFSETTO:-0500
TZNAME:EST
DTSTART:20261101T060000
END:STANDARD
BEGIN:DAYLIGHT
TZOFFSETFROM:-0500
TZOFFSETTO:-0400
TZNAME:EDT
DTSTART:20270314T070000
END:DAYLIGHT
BEGIN:STANDARD
TZOFFSETFROM:-0400
TZOFFSETTO:-0500
TZNAME:EST
DTSTART:20271107T060000
END:STANDARD
END:VTIMEZONE
BEGIN:VEVENT
DTSTART;TZID=America/New_York:20260417T090000
DTEND;TZID=America/New_York:20260417T100000
DTSTAMP:20260422T130423
CREATED:20260224T220243Z
LAST-MODIFIED:20260224T220452Z
UID:5490-1776416400-1776420000@www.millerbusinesscenter.org
SUMMARY:Miller Business Morning
DESCRIPTION:CLICK HERE TO RSVP. \nMiller Mornings provide an opportunity to network with local business professionals\, owners and entrepreneurs. These mornings offer an opportunity to exchange ideas\, build valuable connections\, and gain new perspectives on the ever-evolving business landscape. In addition to meaningful conversations\, each session features a short\, insightful talk focused on relevant business topics\, equipping attendees with practical knowledge\, and actionable takeaways. \nWhether you’re looking to expand your network or learn something new\, Miller Mornings is the place to be! \nFREE. Open to all. \n\nMiller Mornings are sponsored by
URL:https://www.millerbusinesscenter.org/event/miller-business-morning/
LOCATION:Miller Business Center\, 101 Eastwood Blvd.\, Centereach\, NY\, 11720\, United States
END:VEVENT
END:VCALENDAR