BEGIN:VCALENDAR
VERSION:2.0
PRODID:-//Miller Business Center - ECPv6.15.16.1//NONSGML v1.0//EN
CALSCALE:GREGORIAN
METHOD:PUBLISH
X-WR-CALNAME:Miller Business Center
X-ORIGINAL-URL:https://www.millerbusinesscenter.org
X-WR-CALDESC:Events for Miller Business Center
REFRESH-INTERVAL;VALUE=DURATION:PT1H
X-Robots-Tag:noindex
X-PUBLISHED-TTL:PT1H
BEGIN:VTIMEZONE
TZID:America/New_York
BEGIN:DAYLIGHT
TZOFFSETFROM:-0500
TZOFFSETTO:-0400
TZNAME:EDT
DTSTART:20250309T070000
END:DAYLIGHT
BEGIN:STANDARD
TZOFFSETFROM:-0400
TZOFFSETTO:-0500
TZNAME:EST
DTSTART:20251102T060000
END:STANDARD
BEGIN:DAYLIGHT
TZOFFSETFROM:-0500
TZOFFSETTO:-0400
TZNAME:EDT
DTSTART:20260308T070000
END:DAYLIGHT
BEGIN:STANDARD
TZOFFSETFROM:-0400
TZOFFSETTO:-0500
TZNAME:EST
DTSTART:20261101T060000
END:STANDARD
BEGIN:DAYLIGHT
TZOFFSETFROM:-0500
TZOFFSETTO:-0400
TZNAME:EDT
DTSTART:20270314T070000
END:DAYLIGHT
BEGIN:STANDARD
TZOFFSETFROM:-0400
TZOFFSETTO:-0500
TZNAME:EST
DTSTART:20271107T060000
END:STANDARD
END:VTIMEZONE
BEGIN:VEVENT
DTSTART;TZID=America/New_York:20260320T143000
DTEND;TZID=America/New_York:20260320T153000
DTSTAMP:20260422T142948
CREATED:20260224T215552Z
LAST-MODIFIED:20260224T215552Z
UID:5486-1774017000-1774020600@www.millerbusinesscenter.org
SUMMARY:Microloan Webinar: Get Capital the Capital You Need (Fast).
DESCRIPTION:CLICK HERE TO REGISTER. \nIf your established business needs working capital\, new equipment\, or inventory (and you need it relatively quickly)\, this workshop is for you. Join us for a free virtual session where you’ll learn how to access between $10\,000 and $50\,000 for your business. Our lending experts will walk you through eligibility requirements\,  explain what you can (and can’t) use the funds for\, what makes this program different\, and answer your questions live. \nIf your business needs funding to grow\, the State Small Business Credit Initiative (SSBCI) helps make financing more accessible by expanding opportunities for small startup businesses across New York. Through this program\, you may qualify for affordable loan options plus no-cost expert support (including legal\, accounting\, and financial guidance) to help you become loan-ready and secure capital with confidence. This program is funded by Empire State Development and the U.S. Department of the Treasury. \nPresented by The Suffolk County Community College Entrepreneurial Assistance Center
URL:https://www.millerbusinesscenter.org/event/microloan-webinar-get-capital-the-capital-you-need-fast/
LOCATION:Virtual (Zoom)
END:VEVENT
END:VCALENDAR